BEGIN:VCALENDAR
VERSION:2.0
PRODID:-//wp-events-plugin.com//7.2.3.1//EN
TZID:Europe/Berlin
X-WR-TIMEZONE:Europe/Berlin
BEGIN:VEVENT
UID:166@floris-institut.de
DTSTART;TZID=Europe/Berlin:20261120T100000
DTEND;TZID=Europe/Berlin:20261122T170000
DTSTAMP:20260122T103929Z
URL:https://www.floris-institut.de/events/kindeswohltrauma-3/
SUMMARY:Kindeswohl&Trauma
DESCRIPTION:
ATTACH;FMTTYPE=image/jpeg:https://www.floris-institut.de/wp-content/upload
 s/2025/07/AdobeStock_1424557096-scaled.jpeg
CATEGORIES:Seminare (Kinder)
LOCATION:Online\,  \,  \, Deutschland
X-APPLE-STRUCTURED-LOCATION;VALUE=URI;X-ADDRESS= \,  \, Deutschland;X-APPLE
 -RADIUS=100;X-TITLE=Online:geo:0,0
END:VEVENT
BEGIN:VTIMEZONE
TZID:Europe/Berlin
X-LIC-LOCATION:Europe/Berlin
BEGIN:STANDARD
DTSTART:20261025T020000
TZOFFSETFROM:+0200
TZOFFSETTO:+0100
TZNAME:CET
END:STANDARD
END:VTIMEZONE
END:VCALENDAR